BEGIN:VCALENDAR
VERSION:2.0
METHOD:PUBLISH
PRODID:-//Accessible Web Design//My Calendar//http://www.joedolson.com//v//EN';
BEGIN:VEVENT
UID:3-5
LOCATION:Coastal County Brewing 3041 E Olive Rd  Pensacola FL 32514
SUMMARY:Monthly LPEC Meeting
DTSTAMP:20220618T110000
ORGANIZER;CN=Mark:MAILTO:mark@doodeman.org
DTSTART:20220618T110000
DTEND:20220618T130000
CATEGORIES:General
URL;VALUE=URI:https://lpescambia.org/calendar-events/monthly-lpec-meeting-2/?mc_id=3
DESCRIPTION:Our monthly meeting where old and new business is discussed.  Anyone interested in the Libertarian Party is encouraged to stop by!
END:VEVENT
END:VCALENDAR